BEGIN:VCALENDAR
VERSION:2.0
PRODID:-//Velocity Church - ECPv6.11.0.1//NONSGML v1.0//EN
CALSCALE:GREGORIAN
METHOD:PUBLISH
X-ORIGINAL-URL:https://velocitycleveland.org
X-WR-CALDESC:Events for Velocity Church
REFRESH-INTERVAL;VALUE=DURATION:PT1H
X-Robots-Tag:noindex
X-PUBLISHED-TTL:PT1H
BEGIN:VTIMEZONE
TZID:America/New_York
BEGIN:DAYLIGHT
TZOFFSETFROM:-0500
TZOFFSETTO:-0400
TZNAME:EDT
DTSTART:20250309T070000
END:DAYLIGHT
BEGIN:STANDARD
TZOFFSETFROM:-0400
TZOFFSETTO:-0500
TZNAME:EST
DTSTART:20251102T060000
END:STANDARD
END:VTIMEZONE
BEGIN:VTIMEZONE
TZID:UTC
BEGIN:STANDARD
TZOFFSETFROM:+0000
TZOFFSETTO:+0000
TZNAME:UTC
DTSTART:20250101T000000
END:STANDARD
END:VTIMEZONE
BEGIN:VEVENT
DTSTART;TZID=America/New_York:20251017T080000
DTEND;TZID=America/New_York:20251019T170000
DTSTAMP:20260421T074215
CREATED:20250919T155900Z
LAST-MODIFIED:20250926T135754Z
UID:10000455-1760688000-1760893200@velocitycleveland.org
SUMMARY:SMASH Fall Retreat
DESCRIPTION:$100 for the weekend (Scholarships are available- see Nate)
URL:https://velocitycleveland.org/event/smash-fall-retreat/
LOCATION:Stony Glen
ATTACH;FMTTYPE=image/jpeg:https://velocitycleveland.org/wp-content/uploads/2025/09/Slide2-1.jpeg
END:VEVENT
BEGIN:VEVENT
DTSTART;TZID=UTC:20251019T140000
DTEND;TZID=UTC:20251019T160000
DTSTAMP:20260421T074215
CREATED:20240202T225131Z
LAST-MODIFIED:20260110T001347Z
UID:10000090-1760882400-1760889600@velocitycleveland.org
SUMMARY:SMASH
DESCRIPTION:Lunch is not provided\, so we recommend bringing a bagged lunch!
URL:https://velocitycleveland.org/event/smash/2025-10-19/
LOCATION:Velocity Church\, 474 Trebisky Road\, Richmond Heights\, OH\, 44123\, United States
CATEGORIES:Youth
ATTACH;FMTTYPE=image/jpeg:https://velocitycleveland.org/wp-content/uploads/2024/02/TODAy-2-4.jpg
END:VEVENT
END:VCALENDAR